BEGIN:VCALENDAR
VERSION:2.0
PRODID:-//Tukios.com/
BEGIN:VEVENT
UID:24968d45-cdca-4cc3-8a5b-b16f392ae78e@www.cookrichmondfuneralhome.com
DTSTAMP:20260421T223637Z
DTSTART:20260425T170000Z
DTEND:20260425T180000Z
SUMMARY:Funeral Service
DESCRIPTION:
URL:https://www.cookrichmondfuneralhome.com/obituaries/chester-williams
LOCATION: 638 N Columbia St  Bogalusa LA 70427
GEO:30.7711435;-89.8527318
END:VEVENT
END:VCALENDAR