BEGIN:VCALENDAR
VERSION:2.0
PRODID:-//Tukios.com/
BEGIN:VEVENT
UID:ab5af4ec-6550-4405-905d-09c047b64950@www.cookrichmondfuneralhome.com
DTSTAMP:20260421T223707Z
DTSTART:20260425T160000Z
DTEND:20260425T170000Z
SUMMARY:Visitation
DESCRIPTION:
URL:https://www.cookrichmondfuneralhome.com/obituaries/chester-williams
LOCATION: 638 N Columbia St  Bogalusa LA 70427
GEO:30.7711435;-89.8527318
END:VEVENT
END:VCALENDAR